BEGIN:VCALENDAR
VERSION:2.0
PRODID:-//CENICOLOMBIA - ECPv6.0.1//NONSGML v1.0//EN
CALSCALE:GREGORIAN
METHOD:PUBLISH
X-ORIGINAL-URL:https://cenicolombia.com.co
X-WR-CALDESC:Eventos para CENICOLOMBIA
REFRESH-INTERVAL;VALUE=DURATION:PT1H
X-Robots-Tag:noindex
X-PUBLISHED-TTL:PT1H
BEGIN:VTIMEZONE
TZID:America/Bogota
BEGIN:STANDARD
TZOFFSETFROM:-0500
TZOFFSETTO:-0500
TZNAME:-05
DTSTART:20260101T000000
END:STANDARD
END:VTIMEZONE
BEGIN:VEVENT
DTSTART;TZID=America/Bogota:20260325T180000
DTEND;TZID=America/Bogota:20260327T180000
DTSTAMP:20260425T085848
CREATED:20260223T025513Z
LAST-MODIFIED:20260223T025606Z
UID:2111-1774461600-1774634400@cenicolombia.com.co
SUMMARY:Conozca el Régimen Cambiario y prevenga infracciones - Taller de Declaraciones de Cambio
DESCRIPTION:Conozca el Régimen Cambiario y prevenga infracciones – Taller de Declaraciones de Cambio \nFecha: 25\, 26\, y 27 marzo 2026 \nHora: 6:00 pm a 9:00 pm \nIntensidad 9 horas    \n\n GIROS POR CONCEPTO DE IMPORTACIONES DE BIENES\n\n\nPagos con tarjetas de crédito\, débito o transferencias de fondos\nRégimen de “pasarelas” y proveedores de servicios de pago sobre importaciones\nAnticipos\, giros ordinarios\, gastos de importación. Numerales cambiarios.\nAnticipos financiados en moneda extranjera\nFinanciación importaciones post embarque.\nEndeudamiento externo para pago de créditos sobre importaciones\nDiferencias de cambio\, devoluciones\, descuentos\, faltantes y notas crédito\nRégimen de dación en pago.\nImposibilidad jurídica de pago al exterior\, tratamiento cambiario\nRégimen cambiario sobre importaciones en Leasing\n\n\n REINTEGROS DE DIVISAS POR EXPORTACIONES DE MERCANCÍAS\n\n\nPagos de exportaciones con tarjetas de crédito\nRégimen de “pasarelas” y proveedores de servicios de pago sobre exportaciones\nAnticipos y reintegros ordinarios Gastos de exportación Numerales cambiarios.\nDiscriminación de valores en declaraciones de cambio\nDiferencias de cambio\, devoluciones\, descuentos\, faltantes y notas crédito.\nFinanciación post embarque y prefinanciaciones\nVenta de instrumentos de pago.\nRégimen de cauciones.\nRégimen dación en pago.\nImposibilidad jurídica de reintegro\, tratamiento cambiario\n\n\n ESTADO ACTUAL DEL RÉGIMEN DE CUENTAS DE COMPENSACIÓN\n\n\nRegistro y modificación\nInforme mensual\nIngresos: Reintegro de exportaciones; inversiones extranjeras; desembolsos de créditos externos; servicios\, traslados; operaciones internas\nEgresos: Pagos de importaciones\, créditos externos\, reembolsos por inversiones extranjeras; servicios\, traslados; operaciones internas\nCancelación de registro\nAnulación\n\n\n ENDEUDAMIENTO EXTERNO\n\n\nDeuda externa pasiva y activa: Principios rectores y limitaciones.\nDeberes asignados a los IMC\nModalidades de endeudamiento externo pasivo y activo\nCanalización de desembolsos\, amortizaciones\, intereses y comisiones\nExcepciones a la canalización por el mercado cambiario\nCorrecciones y procedimientos especiales: fraccionamiento\, sustitución\, consolidación e indexación.\nCréditos externos en moneda legal\n\nTaller \nDECLARACIONES DE CAMBIO: \n\nObligaciones y responsabilidades en la presentación de las declaraciones de cambio.\nDiligenciamiento de las declaraciones de cambio\nCorrecciones y cambios de declaración\nAnulaciones\nCorrecciones al movimiento mensual de la cuenta de compensación\n\nConferencista \nARMANDO OSPINA GUEVARA \nAsesor en Régimen Cambiario \nModalidad: virtual – Plataforma ZOOM \nValor: $480.000 + IVA \nFormas de pago: Trasferencia\, tarjeta de crédito – PSE \nIncluye: certificado de asistencia \nPrograma PDFImagen seminario\n  \n  \n  \n  \n  \n  \n  \n  \n  \n  \n  \n  \n  \n  \n  \n  \n 
URL:https://cenicolombia.com.co/evento/conozca-el-regimen-cambiario-y-prevenga-infracciones-taller-de-declaraciones-de-cambio/
ATTACH;FMTTYPE=image/jpeg:https://cenicolombia.com.co/wp-content/uploads/2026/02/seminarioCENI-6.jpg
ORGANIZER;CN="CENI%20S.A.S.":MAILTO:info@cenicolombia.com.co
END:VEVENT
END:VCALENDAR